BEGIN:VCALENDAR
VERSION:2.0
PRODID:-//Main Street Fayetteville - ECPv6.14.2//NONSGML v1.0//EN
CALSCALE:GREGORIAN
METHOD:PUBLISH
X-ORIGINAL-URL:https://downtownfayetteville.org
X-WR-CALDESC:Events for Main Street Fayetteville
REFRESH-INTERVAL;VALUE=DURATION:PT1H
X-Robots-Tag:noindex
X-PUBLISHED-TTL:PT1H
BEGIN:VTIMEZONE
TZID:America/New_York
BEGIN:DAYLIGHT
TZOFFSETFROM:-0500
TZOFFSETTO:-0400
TZNAME:EDT
DTSTART:20260308T070000
END:DAYLIGHT
BEGIN:STANDARD
TZOFFSETFROM:-0400
TZOFFSETTO:-0500
TZNAME:EST
DTSTART:20261101T060000
END:STANDARD
END:VTIMEZONE
BEGIN:VEVENT
DTSTART;TZID=America/New_York:20260605T190000
DTEND;TZID=America/New_York:20260605T220000
DTSTAMP:20260422T103217
CREATED:20260401T193737Z
LAST-MODIFIED:20260401T193737Z
UID:1846-1780686000-1780696800@downtownfayetteville.org
SUMMARY:Summer Throwback Bash
DESCRIPTION:🎸 DUST OFF YOUR BOOTS\, FAYETTEVILLE! 🎸\nGet ready for an unforgettable night under the stars at The Ville Amphitheater! On June 5\, we are bringing country music royalty to the stage with the legendary Tracy Lawrence and special guests\, the Duncan Brothers! 🤠✨ \nIt’s going to be a night of classic hits\, high energy\, and the best vibes in Georgia. Don’t wait—grab your tickets now because the price goes up on the day of the show! 🎟️📈 \n🕒 THE TIMELINE\n6:00 PM: Doors Open (Get your spot on the lawn!)\n7:00 PM: Show Starts! \n🍔 EATS & DRINKS\nCome hungry! We’ve got an incredible lineup of local flavors:\nPTC Grill & Grumpy Pig for the savory fans! 🍖\nAunt Zesty’s Lemonade for those sweet treats! 🍋\nJohnny’s Pizza providing on-site craft beverages! 🍺 \n🧊 Pro Tip: Want to bring your own? You are welcome to bring small coolers or picnic baskets with your favorite food and drinks! 🧺 \n📝 KNOW BEFORE YOU GO\n💳 Go Cashless: We are a cards-only venue for ticketing.\nWeather: We play Rain or Shine! Bring a poncho if it looks cloudy\, but remember: No Umbrellas Allowed! 🌧️🚫\nSeating: Low-profile “beach-style” chairs and blankets are perfect for the lawn. 🏖️\nParking: FREE parking is available right next door at the Fayette County High School lot on Tiger Trail. 🚗 \n🔗 GET YOUR TICKETS AT:\n👉 www.thevilleamp.com 👈\n⚠️ IMPORTANT: FreshTix is the authorized ticketing agency for the venue. Only tickets purchased through FreshTix or the Ville Box Office are guaranteed. We cannot validate tickets from third-party sellers or resellers\, so make sure to buy from authorized sources! \n🙌 A Huge Thank You to Our Sponsors!\nWe couldn’t do this without:\nQTS Data Center | Brightmoor Healthcare | Hampton Inn | Johnny’s Pizza | Safebuilt \n#livemusicvenue #livemusic #amphitheater #livemusicrocks #thevilleamp #fayettevillega #TracyLawrence #CountryMusic #SummerConcertSeries #TheVille 🎤🎸✨
URL:https://downtownfayetteville.org/event/summer-throwback-bash/
ATTACH;FMTTYPE=image/png:https://downtownfayetteville.org/wp-content/uploads/2026/04/The-Ville-2026-Tracy-Lawrence-FB-Event-1200-x-628-px.png
END:VEVENT
END:VCALENDAR